BEGIN:VCALENDAR
VERSION:2.0
PRODID:-//Cultura Brasil Austin - ECPv6.3.6//NONSGML v1.0//EN
CALSCALE:GREGORIAN
METHOD:PUBLISH
X-ORIGINAL-URL:https://culturabrasilaustin.org/en
X-WR-CALDESC:Events for Cultura Brasil Austin
REFRESH-INTERVAL;VALUE=DURATION:PT1H
X-Robots-Tag:noindex
X-PUBLISHED-TTL:PT1H
BEGIN:VTIMEZONE
TZID:America/Chicago
BEGIN:DAYLIGHT
TZOFFSETFROM:-0600
TZOFFSETTO:-0500
TZNAME:CDT
DTSTART:20250309T080000
END:DAYLIGHT
BEGIN:STANDARD
TZOFFSETFROM:-0500
TZOFFSETTO:-0600
TZNAME:CST
DTSTART:20251102T070000
END:STANDARD
END:VTIMEZONE
BEGIN:VEVENT
DTSTART;TZID=America/Chicago:20250302T150000
DTEND;TZID=America/Chicago:20250302T180000
DTSTAMP:20260420T132712
CREATED:20250301T000658Z
LAST-MODIFIED:20250301T000658Z
UID:10000049-1740927600-1740938400@culturabrasilaustin.org
SUMMARY:CBA Carnival 2025 - Go wild
DESCRIPTION:🎉🎭 Cai na Folia – Children’s Carnival! 🎭🎉 \n📅 Sunday\, March 2nd | 3pm – 6pm 📍 \nCBA Brazilian-American Cultural Center \n10613 RR 620\, Austin\, TX 78726 \nGet ready for a colorful and energetic celebration at our Children’s Carnival. Put on your favorite costume and come have fun! \nThis vibrant\, family-friendly event is packed with incredible activities\, music and authentic Brazilian culture. \n𝗔𝘁𝗶𝘃𝗶𝗱𝗮𝗱𝗲𝘀 \n🎭 Mask Workshop \n🥁 Percussion & Samba Workshops \n🎶 Instrument Construction Workshop \n🎨 Art Workshop and Face Painting Children’s Parade & Brazilian Food and Sweets for Sale! \n𝗜𝗻𝗴𝗿𝗲𝘀𝘀𝗼𝘀 \n👶 Children & Teenagers (up to 17) – FREE! \n👩‍🦳 Adults – Choose the price: $5 – $50 Tickets at the link in the bio. \nhttps://ticketing.events/app/portal/event/1/13177/cai-na-folia-2025 \nDon’t miss this unforgettable afternoon of music\, dance\, creativity and Carnival fun – a perfect event for the whole family! 💚💛
URL:https://culturabrasilaustin.org/en/https://culturabrasilaustin.org/en/evento/cba-carnival-2025-go-wild
LOCATION:CBA\, 10613 N FM 620\, Austin\, 78726\, United States
ATTACH;FMTTYPE=image/jpeg:https://culturabrasilaustin.org/application/wp-content/uploads/2025/02/cai-na-folia.jpeg
END:VEVENT
END:VCALENDAR